BEGIN:VCALENDAR
VERSION:2.0
PRODID:-//hacksw/handcal//NONSGML v1.0//EN
BEGIN:VEVENT
SUMMARY:Challenge du Soir Nouvelle Formule (17h30 19h30) suivi d'un Buffet Champetre. Participation 10€
UID:2282821a-b274-458c-afac-7ffbe8db151a
DTSTART:20260402T153000Z
DTEND:20260402T173000Z
LOCATION:Localisation   
CATEGORIES:Sportif
STATUS:
URL;VALUE=URI:https://www.bccostieres.com/evenements/2026/04/02/challenge-du-soir-nouvelle-formule-17h30-19h30-suivi-dun-buffet-champetre-participation-10eur-2439806
END:VEVENT
END:VCALENDAR
