BEGIN:VCALENDAR
VERSION:2.0
PRODID:-//hacksw/handcal//NONSGML v1.0//EN
BEGIN:VEVENT
SUMMARY:OCTOPUS
UID:777d5de4-ff51-4d6b-8f3f-b0d0f4eab971
DTSTART:20260409T123000Z
DTEND:20260409T163000Z
LOCATION:Localisation   
CATEGORIES:Sportif
STATUS:
URL;VALUE=URI:https://www.bccostieres.com/evenements/2026/04/09/octopus-2435705
END:VEVENT
END:VCALENDAR
