BEGIN:VCALENDAR
VERSION:2.0
PRODID:-//hacksw/handcal//NONSGML v1.0//EN
BEGIN:VEVENT
SUMMARY:Simultanet
UID:e015c27d-339c-42a8-8917-99c913474ff7
DTSTART:20260410T123000Z
DTEND:20260410T163000Z
LOCATION:Localisation   
CATEGORIES:Sportif
STATUS:
URL;VALUE=URI:https://www.bccostieres.com/evenements/2026/04/10/simultanet-2435707
END:VEVENT
END:VCALENDAR
