BEGIN:VCALENDAR
VERSION:2.0
PRODID:-//hacksw/handcal//NONSGML v1.0//EN
BEGIN:VEVENT
SUMMARY:Tournoi de Regularite avec Handicap
UID:ca77827a-2645-462d-83d6-70d6a1e0281b
DTSTART:20260415T123000Z
DTEND:20260415T123000Z
LOCATION:Localisation   
CATEGORIES:Sportif
STATUS:
URL;VALUE=URI:https://www.bccostieres.com/evenements/2026/04/15/tournoi-de-regularite-avec-handicap-2435712
END:VEVENT
END:VCALENDAR
