BEGIN:VCALENDAR
VERSION:2.0
PRODID:-//hacksw/handcal//NONSGML v1.0//EN
BEGIN:VEVENT
SUMMARY:Trophee du Voyage
UID:ad30e618-8abc-4f46-ab44-be99a6d8a461
DTSTART:20260416T123000Z
DTEND:20260416T163000Z
LOCATION:Localisation   
CATEGORIES:Sportif
STATUS:
URL;VALUE=URI:https://www.bccostieres.com/evenements/2026/04/16/trophee-du-voyage-2435714
END:VEVENT
END:VCALENDAR
