BEGIN:VCALENDAR
VERSION:2.0
PRODID:-//hacksw/handcal//NONSGML v1.0//EN
BEGIN:VEVENT
SUMMARY:OCTOPUS
UID:2ac178af-acbc-4afa-981d-8f259067efc8
DTSTART:20260420T123000Z
DTEND:20260420T163000Z
LOCATION:Localisation   
CATEGORIES:Sportif
STATUS:
URL;VALUE=URI:https://www.bccostieres.com/evenements/2026/04/20/octopus-2435716
END:VEVENT
END:VCALENDAR
