BEGIN:VCALENDAR
VERSION:2.0
PRODID:-//hacksw/handcal//NONSGML v1.0//EN
BEGIN:VEVENT
SUMMARY:Tournoi de Regularite avec Handicap
UID:69fb3450-7da0-4b1f-806e-6db69e955ae5
DTSTART:20260422T123000Z
DTEND:20260422T163000Z
LOCATION:Localisation   
CATEGORIES:Sportif
STATUS:
URL;VALUE=URI:https://www.bccostieres.com/evenements/2026/04/22/tournoi-de-regularite-avec-handicap-2435717
END:VEVENT
END:VCALENDAR
