BEGIN:VCALENDAR
VERSION:2.0
PRODID:-//hacksw/handcal//NONSGML v1.0//EN
BEGIN:VEVENT
SUMMARY:Simultanet
UID:fbd81435-41c4-4b86-bd6b-8cbc4b05add3
DTSTART:20260424T123000Z
DTEND:20260424T163000Z
LOCATION:Localisation   
CATEGORIES:Sportif
STATUS:
URL;VALUE=URI:https://www.bccostieres.com/evenements/2026/04/24/simultanet-2435718
END:VEVENT
END:VCALENDAR
