BEGIN:VCALENDAR
VERSION:2.0
PRODID:-//hacksw/handcal//NONSGML v1.0//EN
BEGIN:VEVENT
SUMMARY:Tournoi Eleves/Joueurs Confirmes. S'inscrire aupres de Francoise CASTELLI  ( Tel: 07 63 32 63 15 ) suivi d'un Aperitif
UID:c2950b01-cbb8-4894-ac26-710e5dac030c
DTSTART:20260428T123000Z
DTEND:20260428T163000Z
LOCATION:Localisation   
CATEGORIES:Sportif
STATUS:
URL;VALUE=URI:https://www.bccostieres.com/evenements/2026/04/28/tournoi-elevesjoueurs-confirmes-sinscrire-aupres-de-francoise-castelli-tel-07-63-32-63-15-suivi-dun-aperitif-2439803
END:VEVENT
END:VCALENDAR
