BEGIN:VCALENDAR
VERSION:2.0
PRODID:-//hacksw/handcal//NONSGML v1.0//EN
BEGIN:VEVENT
SUMMARY:Tournoi de Regularite avec Handicap
UID:12eac314-4674-4d5f-ac39-ea717a39f6d0
DTSTART:20260429T123000Z
DTEND:20260429T163000Z
LOCATION:Localisation   
CATEGORIES:Sportif
STATUS:
URL;VALUE=URI:https://www.bccostieres.com/evenements/2026/04/29/tournoi-de-regularite-avec-handicap-2435720
END:VEVENT
END:VCALENDAR
