BEGIN:VCALENDAR
VERSION:2.0
PRODID:-//hacksw/handcal//NONSGML v1.0//EN
BEGIN:VEVENT
SUMMARY:Tournoi et Auberge Espagnole. Chacun apporte quelquechose. Vin Offert
UID:f4a56e98-33df-4a4a-a846-1ac0484aff4e
DTSTART:20260514T123000Z
DTEND:20260514T200000Z
LOCATION:Localisation   
CATEGORIES:Sportif
STATUS:
URL;VALUE=URI:https://www.bccostieres.com/evenements/2026/05/14/tournoi-et-auberge-espagnole-chacun-apporte-quelquechose-vin-offert-2443040
END:VEVENT
END:VCALENDAR
